BEGIN:VCALENDAR
VERSION:2.0
PRODID:-//MarcaValado - ECPv5.6.0//NONSGML v1.0//EN
CALSCALE:GREGORIAN
METHOD:PUBLISH
X-WR-CALNAME:MarcaValado
X-ORIGINAL-URL:https://marcavalado.anavalado.com
X-WR-CALDESC:Eventos para MarcaValado
BEGIN:VTIMEZONE
TZID:UTC
BEGIN:STANDARD
TZOFFSETFROM:+0000
TZOFFSETTO:+0000
TZNAME:UTC
DTSTART:20220101T000000
END:STANDARD
END:VTIMEZONE
BEGIN:VEVENT
DTSTART;TZID=UTC:20220923T190000
DTEND;TZID=UTC:20220923T220000
DTSTAMP:20260421T053511
CREATED:20220616T160510Z
LAST-MODIFIED:20220617T183810Z
UID:1839-1663959600-1663970400@marcavalado.anavalado.com
SUMMARY:Estrategias de Comunicación y Marca
DESCRIPTION:Durante esta sesión se darán las principales estrategias a tener en cuenta para que asistentas y los asistentes comuniquen y gestionen su marca personal con las herramientas disponibles para la consecución de su objetivo de búsqueda de empleo.  \nMasterclass: Estrategias de Comunicación y Marca \nDía: 23 de Septiembre do 2022. \nLugar: Instalacións Parque da Solaina (Barbadás) \nQuendas: De 19:00 a 22:00 \nInscripcións no mail: cet@barbadas.es \nMáis información no teléfono: 988 360 413 \nHasta cubrir Aforo
URL:https://marcavalado.anavalado.com/event/estrategias-de-comunicacion-y-marca/
CATEGORIES:- Masterclass,Comunicación y Marca
ATTACH;FMTTYPE=image/jpeg:https://marcavalado.anavalado.com/wp-content/uploads/2021/11/Copia-de-Copia-de-Masterclass-Emprego-Barbadas-2-e1655487682265.jpg
END:VEVENT
END:VCALENDAR